BEGIN:VCALENDAR
VERSION:2.0
PRODID:-//Pasta Kitchen - ECPv6.15.17.1//NONSGML v1.0//EN
CALSCALE:GREGORIAN
METHOD:PUBLISH
X-WR-CALNAME:Pasta Kitchen
X-ORIGINAL-URL:https://pastakitchen.hu
X-WR-CALDESC:Események Pasta Kitchen
REFRESH-INTERVAL;VALUE=DURATION:PT1H
X-Robots-Tag:noindex
X-PUBLISHED-TTL:PT1H
BEGIN:VTIMEZONE
TZID:UTC
BEGIN:STANDARD
TZOFFSETFROM:+0000
TZOFFSETTO:+0000
TZNAME:UTC
DTSTART:20250101T000000
END:STANDARD
END:VTIMEZONE
BEGIN:VEVENT
DTSTART;TZID=UTC:20260502T100000
DTEND;TZID=UTC:20260502T150000
DTSTAMP:20260420T145345
CREATED:20260303T164042Z
LAST-MODIFIED:20260303T164042Z
UID:11793-1777716000-1777734000@pastakitchen.hu
SUMMARY:Cukrász workshop
DESCRIPTION:
URL:https://pastakitchen.hu/esemenyek/cukrasz-workshop-2/
END:VEVENT
BEGIN:VEVENT
DTSTART;TZID=UTC:20260516T110000
DTEND;TZID=UTC:20260516T160000
DTSTAMP:20260420T145345
CREATED:20260303T164151Z
LAST-MODIFIED:20260304T171606Z
UID:11795-1778929200-1778947200@pastakitchen.hu
SUMMARY:Kovászos kenyér workshop
DESCRIPTION:
URL:https://pastakitchen.hu/esemenyek/kovaszos-kenyer-workshop-3/
END:VEVENT
BEGIN:VEVENT
DTSTART;TZID=UTC:20260525T100000
DTEND;TZID=UTC:20260525T150000
DTSTAMP:20260420T145345
CREATED:20260410T120326Z
LAST-MODIFIED:20260410T120326Z
UID:11826-1779703200-1779721200@pastakitchen.hu
SUMMARY:A kerti party sztárjai – süteménykurzus
DESCRIPTION:
URL:https://pastakitchen.hu/esemenyek/a-kerti-party-sztarjai-sutemenykurzus/
END:VEVENT
END:VCALENDAR