BEGIN:VCALENDAR
VERSION:2.0
PRODID:-//Pasta Kitchen - ECPv6.15.17.1//NONSGML v1.0//EN
CALSCALE:GREGORIAN
METHOD:PUBLISH
X-WR-CALNAME:Pasta Kitchen
X-ORIGINAL-URL:https://pastakitchen.hu
X-WR-CALDESC:Események Pasta Kitchen
REFRESH-INTERVAL;VALUE=DURATION:PT1H
X-Robots-Tag:noindex
X-PUBLISHED-TTL:PT1H
BEGIN:VTIMEZONE
TZID:UTC
BEGIN:STANDARD
TZOFFSETFROM:+0000
TZOFFSETTO:+0000
TZNAME:UTC
DTSTART:20250101T000000
END:STANDARD
END:VTIMEZONE
BEGIN:VEVENT
DTSTART;TZID=UTC:20260612T160000
DTEND;TZID=UTC:20260612T200000
DTSTAMP:20260420T191007
CREATED:20260410T120452Z
LAST-MODIFIED:20260410T120452Z
UID:11828-1781280000-1781294400@pastakitchen.hu
SUMMARY:Vintage bento cake - tortakurzus
DESCRIPTION:
URL:https://pastakitchen.hu/esemenyek/vintage-bento-cake-tortakurzus/
END:VEVENT
BEGIN:VEVENT
DTSTART;TZID=UTC:20260621T100000
DTEND;TZID=UTC:20260621T150000
DTSTAMP:20260420T191007
CREATED:20260410T120552Z
LAST-MODIFIED:20260410T120552Z
UID:11830-1782036000-1782054000@pastakitchen.hu
SUMMARY:Sütés nélküli finomságok nyárra – süteménykurzus
DESCRIPTION:
URL:https://pastakitchen.hu/esemenyek/sutes-nelkuli-finomsagok-nyarra-sutemenykurzus/
END:VEVENT
END:VCALENDAR