BEGIN:VCALENDAR
VERSION:2.0
PRODID:-//Pasta Kitchen - ECPv6.15.17.1//NONSGML v1.0//EN
CALSCALE:GREGORIAN
METHOD:PUBLISH
X-ORIGINAL-URL:https://pastakitchen.hu
X-WR-CALDESC:Események Pasta Kitchen
REFRESH-INTERVAL;VALUE=DURATION:PT1H
X-Robots-Tag:noindex
X-PUBLISHED-TTL:PT1H
BEGIN:VTIMEZONE
TZID:UTC
BEGIN:STANDARD
TZOFFSETFROM:+0000
TZOFFSETTO:+0000
TZNAME:UTC
DTSTART:20250101T000000
END:STANDARD
END:VTIMEZONE
BEGIN:VEVENT
DTSTART;TZID=UTC:20260704T150000
DTEND;TZID=UTC:20260704T190000
DTSTAMP:20260420T225429
CREATED:20260410T120640Z
LAST-MODIFIED:20260410T120640Z
UID:11832-1783177200-1783191600@pastakitchen.hu
SUMMARY:Amerika ízei – süteménykurzus
DESCRIPTION:
URL:https://pastakitchen.hu/esemenyek/amerika-izei-sutemenykurzus/
END:VEVENT
BEGIN:VEVENT
DTSTART;TZID=UTC:20260711T100000
DTEND;TZID=UTC:20260711T150000
DTSTAMP:20260420T225429
CREATED:20260410T120728Z
LAST-MODIFIED:20260410T120728Z
UID:11834-1783764000-1783782000@pastakitchen.hu
SUMMARY:Koktélokra hagolva: koktél ihlette desszertek – süteménykurzus
DESCRIPTION:
URL:https://pastakitchen.hu/esemenyek/koktelokra-hagolva-koktel-ihlette-desszertek-sutemenykurzus/
END:VEVENT
END:VCALENDAR